BEGIN:VCALENDAR
VERSION:2.0
PRODID:-//HERMINE - ECPv6.15.17.1//NONSGML v1.0//EN
CALSCALE:GREGORIAN
METHOD:PUBLISH
X-ORIGINAL-URL:https://hermine.global
X-WR-CALDESC:Veranstaltungen für HERMINE
REFRESH-INTERVAL;VALUE=DURATION:PT1H
X-Robots-Tag:noindex
X-PUBLISHED-TTL:PT1H
BEGIN:VTIMEZONE
TZID:Europe/Berlin
BEGIN:DAYLIGHT
TZOFFSETFROM:+0100
TZOFFSETTO:+0200
TZNAME:CEST
DTSTART:20240331T010000
END:DAYLIGHT
BEGIN:STANDARD
TZOFFSETFROM:+0200
TZOFFSETTO:+0100
TZNAME:CET
DTSTART:20241027T010000
END:STANDARD
BEGIN:DAYLIGHT
TZOFFSETFROM:+0100
TZOFFSETTO:+0200
TZNAME:CEST
DTSTART:20250330T010000
END:DAYLIGHT
BEGIN:STANDARD
TZOFFSETFROM:+0200
TZOFFSETTO:+0100
TZNAME:CET
DTSTART:20251026T010000
END:STANDARD
BEGIN:DAYLIGHT
TZOFFSETFROM:+0100
TZOFFSETTO:+0200
TZNAME:CEST
DTSTART:20260329T010000
END:DAYLIGHT
BEGIN:STANDARD
TZOFFSETFROM:+0200
TZOFFSETTO:+0100
TZNAME:CET
DTSTART:20261025T010000
END:STANDARD
END:VTIMEZONE
BEGIN:VEVENT
DTSTART;TZID=Europe/Berlin:20250518T150000
DTEND;TZID=Europe/Berlin:20250518T163000
DTSTAMP:20260425T131351
CREATED:20241020T212026Z
LAST-MODIFIED:20250507T215320Z
UID:10479-1747580400-1747585800@hermine.global
SUMMARY:Einstiegstreffen HERMINE
DESCRIPTION:Du hast Lust\, dich bei HERMINE einzubringen? \nDann komm doch einfach bei unserem Einstiegstreffen vorbei!\nDort stellen wir die Arbeit von HERMINE vor\, erklären\, auf welche Arten du dich engagieren kannst und beantworten dir all deine Fragen.\nIm Anschluss lassen wir den Abend entspannt mit Kaffee oder Tee und Kuchen ausklingen. \nKlingt gut?\nDann komm am Montag\, den 18.05. um 15 Uhr bei unserer Lagerhalle in der Ohmstraße 1 vorbei! \nFalls du am 18.05. keine Zeit hast\, kannst du auch an jedem anderen Sonntag zwischen 12 und 18 Uhr in der Lagerhalle vorbei kommen. Oder schreibe uns einfach eine E-Mail an info@hermine.global! \nWir freuen uns auf dich! \n 
URL:https://hermine.global/event/hermine-einstiegstreffen/
LOCATION:Ohmstraße\, Ohmstraße 1\, Würzburg\, 97076
ATTACH;FMTTYPE=image/png:https://hermine.global/wp-content/uploads/2024/10/Hermine-Fenster-01.png
END:VEVENT
END:VCALENDAR