BEGIN:VCALENDAR
VERSION:2.0
PRODID:-//HERMINE - ECPv6.15.17.1//NONSGML v1.0//EN
CALSCALE:GREGORIAN
METHOD:PUBLISH
X-WR-CALNAME:HERMINE
X-ORIGINAL-URL:https://hermine.global
X-WR-CALDESC:Veranstaltungen für HERMINE
REFRESH-INTERVAL;VALUE=DURATION:PT1H
X-Robots-Tag:noindex
X-PUBLISHED-TTL:PT1H
BEGIN:VTIMEZONE
TZID:Europe/Berlin
BEGIN:DAYLIGHT
TZOFFSETFROM:+0100
TZOFFSETTO:+0200
TZNAME:CEST
DTSTART:20240331T010000
END:DAYLIGHT
BEGIN:STANDARD
TZOFFSETFROM:+0200
TZOFFSETTO:+0100
TZNAME:CET
DTSTART:20241027T010000
END:STANDARD
BEGIN:DAYLIGHT
TZOFFSETFROM:+0100
TZOFFSETTO:+0200
TZNAME:CEST
DTSTART:20250330T010000
END:DAYLIGHT
BEGIN:STANDARD
TZOFFSETFROM:+0200
TZOFFSETTO:+0100
TZNAME:CET
DTSTART:20251026T010000
END:STANDARD
BEGIN:DAYLIGHT
TZOFFSETFROM:+0100
TZOFFSETTO:+0200
TZNAME:CEST
DTSTART:20260329T010000
END:DAYLIGHT
BEGIN:STANDARD
TZOFFSETFROM:+0200
TZOFFSETTO:+0100
TZNAME:CET
DTSTART:20261025T010000
END:STANDARD
END:VTIMEZONE
BEGIN:VEVENT
DTSTART;TZID=Europe/Berlin:20251110T183000
DTEND;TZID=Europe/Berlin:20251110T203000
DTSTAMP:20260421T135929
CREATED:20251027T212231Z
LAST-MODIFIED:20251028T100013Z
UID:10970-1762799400-1762806600@hermine.global
SUMMARY:Infoveranstaltung: HERMINE sucht Verstärkung!
DESCRIPTION:Seit zehn Jahren leistet HERMINE Hilfe für Geflüchtete in Transitländern und an den EU-Außengrenzen. Damit wir diese Arbeit fortsetzen können\, brauchen wir dringend neue Freiwillige.Werde Teil der Lösung – Erfahre alles auf unserer Infoveranstaltung!\n\nWann: Montag\, 10. November 2025\, 18:30 Uhr\nWo: b-hof\, Hofstraße 16\, Würzburg\nDich erwarten:\n\nEinblicke aus erster Hand über die aktuelle Situation vor Ort.\nEntwicklungen seit 2015 und die Rolle von HERMINE.\nWie du konkret Teil des Teams wirst – egal ob mit 2 Stunden Zeit im Monat oder spezifischen Skills.\n\nKomm vorbei. Werde aktiv. Mach einen Unterschied
URL:https://hermine.global/event/infoveranstaltung-hermine-sucht-verstaerkung/
LOCATION:b-hof\, Hofstraße 16\, Würzburg\, 97070
ATTACH;FMTTYPE=image/jpeg:https://hermine.global/wp-content/uploads/2025/10/DSCF3424-scaled-e1761600488723.jpg
END:VEVENT
BEGIN:VEVENT
DTSTART;TZID=Europe/Berlin:20251116T120000
DTEND;TZID=Europe/Berlin:20251116T220000
DTSTAMP:20260421T135929
CREATED:20251014T222352Z
LAST-MODIFIED:20251102T164944Z
UID:10945-1763294400-1763330400@hermine.global
SUMMARY:Sortier-Event zur Winter-Sammelaktion: 100 Kartons an einem Tag?
DESCRIPTION:Im Rahmen unserer Winter-Sammelaktion „Spende Wärme\, schaffe Zuflucht“ haben wir schon viele Sachspenden erhalten.\nDamit die gespendeten Hosen\, Jacken\, Schlafsäcke und weitere Dinge möglichst schnell bei den Menschen ankommen\, die sie dringend brauchen\, brauchen wir eure Unterstützung beim Sortieren! \nAm Sonntag\, den 16. November\, laden wir euch herzlich zu unserem Sortier-Event ein.\nKommt vorbei\, bringt eure Freund*innen mit und helft uns\, gemeinsam 100 Kartons voller Wärme zu packen. Mit eurer Unterstützung können wir Menschen auf der Flucht an den europäischen Außengrenzen besser durch den Winter bringen. \nAlso schnapp dir deine Fußballmannschaft\, deine Fachschaft oder WG und kommt gemeinsam vorbei! \n🕛 Wann: Sonntag\, 16. November\, von 12 bis 22 Uhr\n📍 Wo: Ohmstraße 1\, 97076 Würzburg \nDamit wir gut planen und den Tag möglichst gut nutzen können\, meldet euch am besten für einen Zeitslot an – egal\, ob ihr nur kurz oder den ganzen Tag mithelfen wollt. \nDu bist noch unsicher\, ob und wann du kommen kannst? Kein Problem! Auch spontane Packhelfer*innen sind herzlich willkommen! \nFür Musik\, Essen und gute Laune ist gesorgt. Ihr habt außerdem die Gelegenheit\, euch über unsere Arbeit sowie die Situation an den europäischen Außengrenzen zu informieren. Dazu werden wir auch kurze Filme zeigen. Schaut vorbei – jede helfende Hand zählt! \nSo funktioniert’s:\nSchreibt uns eine Mail an info@hermine.global mit folgenden Infos:\nZeitrahmen: z. B. 12-14 Uhr oder 18-22 Uhr\nWie lange könnt ihr mithelfen? \nBei Anmeldung als Gruppe:\nGruppenname\nAnzahl der Gruppenmitglieder \nBei Anmeldung als Einzelperson:\nName \nWenn ihr z. B. angebt\, dass ihr zwischen 12 und 18 Uhr Zeit habt und gerne für 2 Stunden mithelfen wollt\, teilen wir euch innerhalb dieses Zeitraums ein und sagen euch Bescheid\, für welchen Slot ihr eingeplant seid. \nGemeinsam schaffen wir 100 Kartons – und schenken Wärme dort\, wo sie am dringendsten gebraucht wird. \nWir freuen uns auf euch!
URL:https://hermine.global/event/sortier-event-zur-winter-sammelaktion-100-kartons-an-einem-tag/
LOCATION:Privat: Ohmstraße 1\, Lagerhalle HERMINE e.V.\, Ohmstraße 1\, Bayern - Würzburg\, 97076\, Deutschland
ATTACH;FMTTYPE=image/jpeg:https://hermine.global/wp-content/uploads/2025/10/Sortieren-der-Spenden-bei-HERMINE-2-scaled.jpeg
END:VEVENT
BEGIN:VEVENT
DTSTART;TZID=Europe/Berlin:20251124T173000
DTEND;TZID=Europe/Berlin:20251124T183000
DTSTAMP:20260421T135929
CREATED:20251104T003713Z
LAST-MODIFIED:20251113T182912Z
UID:10995-1764005400-1764009000@hermine.global
SUMMARY:Infoveranstaltung: Situation an der Grenze in Calais
DESCRIPTION:Wann? 24.11.\, 17:30\nWas? Webinar zur Situation an der Grenze in Calais\nWo? Online\, oder in unserer Lagerhalle in der Ohmstraße 1 \nWarum sitzen so viele Menschen an der Grenze in Calais fest?Unsere Partnerorgas geben einen Einblick in die aktuelle Situation: \n\nUrsachen von Flucht und Blockaden an der Grenze\nDie Rolle des Globalen Nordens\nAktuelle Entwicklungen\, Zahlen und Trends\nWie Advocacy-Arbeit konkret aussieht – und warum unsere Präsenz in Calais so wichtig ist\n\nDas Webinar findet online statt.\nHier ist der Link zum Meeting per Google Meet: https://meet.google.com/xwp-krai-aeg\nAlternativ kannst du dich per Telefon zuschalten\, indem du die Nummer +49 30 300195060‬ anrufst. (PIN: ‪329 233 704 4425‬#)\nWer möchte\, kann das Webinar gemeinsam mit uns in der Lagerhalle verfolgen: wir machen ein kleines Public Viewing daraus.
URL:https://hermine.global/event/infoveranstaltung-situation-an-der-grenze-in-calais/
LOCATION:Privat: Ohmstraße 1\, Lagerhalle HERMINE e.V.\, Ohmstraße 1\, Bayern - Würzburg\, 97076\, Deutschland
ATTACH;FMTTYPE=image/jpeg:https://hermine.global/wp-content/uploads/2025/11/IMG-20241105-WA0005-e1762216555687.jpg
END:VEVENT
END:VCALENDAR